Package: EBSeq Version: 2.5.2 Command: /home/biocbuild/bbs-3.21-bioc/R/bin/R CMD build --keep-empty-dirs --no-resave-data EBSeq StartedAt: 2025-02-20 17:20:28 -0500 (Thu, 20 Feb 2025) EndedAt: 2025-02-20 17:20:30 -0500 (Thu, 20 Feb 2025) EllapsedTime: 2.0 seconds RetCode: 0 Status: OK PackageFile: EBSeq_2.5.2.tar.gz PackageFileSize: 1.07 MiB