Package: EBSeq Version: 2.5.2 Command: /Library/Frameworks/R.framework/Resources/bin/R CMD INSTALL EBSeq StartedAt: 2025-02-20 15:18:47 -0500 (Thu, 20 Feb 2025) EndedAt: 2025-02-20 15:18:56 -0500 (Thu, 20 Feb 2025) EllapsedTime: 9.0 seconds RetCode: 0 Status: OK