Package: EBSeq Version: 2.5.2 Command: /Library/Frameworks/R.framework/Resources/bin/R CMD check --install=check:EBSeq.install-out.txt --library=/Library/Frameworks/R.framework/Resources/library --no-vignettes --timings EBSeq_2.5.2.tar.gz StartedAt: 2025-02-20 19:06:24 -0500 (Thu, 20 Feb 2025) EndedAt: 2025-02-20 19:06:48 -0500 (Thu, 20 Feb 2025) EllapsedTime: 24.3 seconds RetCode: 0 Status: OK CheckDir: EBSeq.Rcheck Warnings: 0