Package: EBSEA Version: 1.35.0 Command: rm -rf EBSEA.buildbin-libdir && mkdir EBSEA.buildbin-libdir && E:\biocbuild\bbs-3.21-bioc\R\bin\R.exe CMD INSTALL --build --library=EBSEA.buildbin-libdir EBSEA_1.35.0.tar.gz StartedAt: 2025-02-20 07:43:02 -0500 (Thu, 20 Feb 2025) EndedAt: 2025-02-20 07:43:28 -0500 (Thu, 20 Feb 2025) EllapsedTime: 26.8 seconds RetCode: 0 Status: OK PackageFile: EBSEA_1.35.0.zip PackageFileSize: 55.12 KiB