Package: EBSEA Version: 1.35.0 Command: /Library/Frameworks/R.framework/Resources/bin/R CMD build --keep-empty-dirs --no-resave-data EBSEA StartedAt: 2025-02-19 16:35:13 -0500 (Wed, 19 Feb 2025) EndedAt: 2025-02-19 16:35:53 -0500 (Wed, 19 Feb 2025) EllapsedTime: 39.9 seconds RetCode: 0 Status: OK PackageFile: EBSEA_1.35.0.tar.gz PackageFileSize: 56.24 KiB