Package: EBSEA Version: 1.35.0 Command: /Library/Frameworks/R.framework/Resources/bin/R CMD INSTALL EBSEA StartedAt: 2025-02-19 15:08:32 -0500 (Wed, 19 Feb 2025) EndedAt: 2025-02-19 15:08:42 -0500 (Wed, 19 Feb 2025) EllapsedTime: 10.1 seconds RetCode: 0 Status: OK