Package: EBSEA Version: 1.35.0 Command: rm -rf EBSEA.buildbin-libdir && mkdir EBSEA.buildbin-libdir && /Users/biocbuild/BBS/utils/build-universal.sh EBSEA_1.35.0.tar.gz /Library/Frameworks/R.framework/Resources/bin/R EBSEA.buildbin-libdir StartedAt: 2025-02-19 22:20:44 -0500 (Wed, 19 Feb 2025) EndedAt: 2025-02-19 22:20:54 -0500 (Wed, 19 Feb 2025) EllapsedTime: 10.2 seconds RetCode: 0 Status: OK PackageFile: EBSEA_1.35.0.tgz PackageFileSize: 76.43 KiB