Package: EBImage Version: 4.49.0 Command: E:\biocbuild\bbs-3.21-bioc\R\bin\R.exe CMD INSTALL EBImage StartedAt: 2025-02-19 16:11:29 -0500 (Wed, 19 Feb 2025) EndedAt: 2025-02-19 16:12:36 -0500 (Wed, 19 Feb 2025) EllapsedTime: 67.1 seconds RetCode: 0 Status: OK