Package: EBImage Version: 4.49.0 Command: E:\biocbuild\bbs-3.21-bioc\R\bin\R.exe CMD check --no-multiarch --install=check:EBImage.install-out.txt --library=E:\biocbuild\bbs-3.21-bioc\R\library --no-vignettes --timings EBImage_4.49.0.tar.gz StartedAt: 2025-02-20 00:45:24 -0500 (Thu, 20 Feb 2025) EndedAt: 2025-02-20 00:47:03 -0500 (Thu, 20 Feb 2025) EllapsedTime: 99.6 seconds RetCode: 0 Status: OK CheckDir: EBImage.Rcheck Warnings: 0