Package: EBImage Version: 4.49.0 Command: /Library/Frameworks/R.framework/Resources/bin/R CMD INSTALL EBImage StartedAt: 2025-02-19 15:23:23 -0500 (Wed, 19 Feb 2025) EndedAt: 2025-02-19 15:23:42 -0500 (Wed, 19 Feb 2025) EllapsedTime: 18.1 seconds RetCode: 0 Status: OK