Package: EBImage Version: 4.49.0 Command: /Library/Frameworks/R.framework/Resources/bin/R CMD build --keep-empty-dirs --no-resave-data EBImage StartedAt: 2025-02-19 16:35:12 -0500 (Wed, 19 Feb 2025) EndedAt: 2025-02-19 16:35:53 -0500 (Wed, 19 Feb 2025) EllapsedTime: 41.1 seconds RetCode: 0 Status: OK PackageFile: EBImage_4.49.0.tar.gz PackageFileSize: 6.296 MiB