Package: DynDoc Version: 1.85.0 Command: rm -rf DynDoc.buildbin-libdir && mkdir DynDoc.buildbin-libdir && E:\biocbuild\bbs-3.21-bioc\R\bin\R.exe CMD INSTALL --build --library=DynDoc.buildbin-libdir DynDoc_1.85.0.tar.gz StartedAt: 2025-02-21 08:00:44 -0500 (Fri, 21 Feb 2025) EndedAt: 2025-02-21 08:01:15 -0500 (Fri, 21 Feb 2025) EllapsedTime: 31.4 seconds RetCode: 0 Status: OK PackageFile: DynDoc_1.85.0.zip PackageFileSize: 219 KiB