Package: DynDoc Version: 1.85.0 Command: /home/biocbuild/bbs-3.21-bioc/R/bin/R CMD check --install=check:DynDoc.install-out.txt --library=/home/biocbuild/bbs-3.21-bioc/R/site-library --timings DynDoc_1.85.0.tar.gz StartedAt: 2025-02-20 21:44:46 -0500 (Thu, 20 Feb 2025) EndedAt: 2025-02-20 21:45:03 -0500 (Thu, 20 Feb 2025) EllapsedTime: 17.1 seconds RetCode: 0 Status: WARNINGS CheckDir: DynDoc.Rcheck Warnings: 1