Package: DynDoc Version: 1.85.0 Command: /Library/Frameworks/R.framework/Resources/bin/R CMD check --install=check:DynDoc.install-out.txt --library=/Library/Frameworks/R.framework/Resources/library --no-vignettes --timings DynDoc_1.85.0.tar.gz StartedAt: 2025-02-20 20:11:23 -0500 (Thu, 20 Feb 2025) EndedAt: 2025-02-20 20:11:50 -0500 (Thu, 20 Feb 2025) EllapsedTime: 26.4 seconds RetCode: 0 Status: WARNINGS CheckDir: DynDoc.Rcheck Warnings: 1