Package: DuplexDiscovereR Version: 1.1.1 Command: /home/biocbuild/bbs-3.21-bioc/R/bin/R CMD INSTALL DuplexDiscovereR StartedAt: 2025-02-20 16:04:10 -0500 (Thu, 20 Feb 2025) EndedAt: 2025-02-20 16:05:36 -0500 (Thu, 20 Feb 2025) EllapsedTime: 85.8 seconds RetCode: 0 Status: OK