Package: DuplexDiscovereR Version: 1.1.1 Command: /home/biocbuild/bbs-3.21-bioc/R/bin/R CMD build --keep-empty-dirs --no-resave-data DuplexDiscovereR StartedAt: 2025-02-20 17:19:30 -0500 (Thu, 20 Feb 2025) EndedAt: 2025-02-20 17:21:31 -0500 (Thu, 20 Feb 2025) EllapsedTime: 121.2 seconds RetCode: 0 Status: OK PackageFile: DuplexDiscovereR_1.1.1.tar.gz PackageFileSize: 1016 KiB