Package: DuplexDiscovereR Version: 1.1.1 Command: /Library/Frameworks/R.framework/Resources/bin/R CMD INSTALL DuplexDiscovereR StartedAt: 2025-02-20 15:41:28 -0500 (Thu, 20 Feb 2025) EndedAt: 2025-02-20 15:43:14 -0500 (Thu, 20 Feb 2025) EllapsedTime: 106.3 seconds RetCode: 0 Status: OK