Package: DuplexDiscovereR Version: 1.1.1 Command: /Library/Frameworks/R.framework/Resources/bin/R CMD build --keep-empty-dirs --no-resave-data DuplexDiscovereR StartedAt: 2025-02-20 16:34:10 -0500 (Thu, 20 Feb 2025) EndedAt: 2025-02-20 16:36:20 -0500 (Thu, 20 Feb 2025) EllapsedTime: 130.5 seconds RetCode: 0 Status: OK PackageFile: DuplexDiscovereR_1.1.1.tar.gz PackageFileSize: 998.6 KiB