Package: Dune Version: 1.19.0 Command: /home/biocbuild/bbs-3.21-bioc/R/bin/R CMD build --keep-empty-dirs --no-resave-data Dune StartedAt: 2025-02-20 17:19:29 -0500 (Thu, 20 Feb 2025) EndedAt: 2025-02-20 17:20:08 -0500 (Thu, 20 Feb 2025) EllapsedTime: 39.0 seconds RetCode: 0 Status: OK PackageFile: Dune_1.19.0.tar.gz PackageFileSize: 2.039 MiB