Package: Dune Version: 1.19.0 Command: /Library/Frameworks/R.framework/Resources/bin/R CMD check --install=check:Dune.install-out.txt --library=/Library/Frameworks/R.framework/Resources/library --no-vignettes --timings Dune_1.19.0.tar.gz StartedAt: 2025-02-20 19:04:48 -0500 (Thu, 20 Feb 2025) EndedAt: 2025-02-20 19:06:31 -0500 (Thu, 20 Feb 2025) EllapsedTime: 103.2 seconds RetCode: 1 Status: ERROR CheckDir: Dune.Rcheck Warnings: NA