Package: DrugVsDisease Version: 2.49.0 Command: E:\biocbuild\bbs-3.21-bioc\R\bin\R.exe CMD check --no-multiarch --install=check:DrugVsDisease.install-out.txt --library=E:\biocbuild\bbs-3.21-bioc\R\library --no-vignettes --timings DrugVsDisease_2.49.0.tar.gz StartedAt: 2025-02-21 00:53:21 -0500 (Fri, 21 Feb 2025) EndedAt: 2025-02-21 00:56:33 -0500 (Fri, 21 Feb 2025) EllapsedTime: 192.6 seconds RetCode: 0 Status: OK CheckDir: DrugVsDisease.Rcheck Warnings: 0