Package: DrugVsDisease Version: 2.49.0 Command: /Library/Frameworks/R.framework/Resources/bin/R CMD INSTALL DrugVsDisease StartedAt: 2025-02-20 15:18:21 -0500 (Thu, 20 Feb 2025) EndedAt: 2025-02-20 15:18:22 -0500 (Thu, 20 Feb 2025) EllapsedTime: 0.6 seconds RetCode: 1 Status: ERROR