Package: DropletUtils Version: 1.27.2 Command: E:\biocbuild\bbs-3.21-bioc\R\bin\R.exe CMD INSTALL DropletUtils StartedAt: 2025-02-19 16:10:20 -0500 (Wed, 19 Feb 2025) EndedAt: 2025-02-19 16:12:51 -0500 (Wed, 19 Feb 2025) EllapsedTime: 150.7 seconds RetCode: 0 Status: OK