Package: DropletUtils Version: 1.27.2 Command: chmod a+r DropletUtils -R && E:\biocbuild\bbs-3.21-bioc\R\bin\R.exe CMD build --keep-empty-dirs --no-resave-data DropletUtils StartedAt: 2025-02-19 18:29:01 -0500 (Wed, 19 Feb 2025) EndedAt: 2025-02-19 18:31:02 -0500 (Wed, 19 Feb 2025) EllapsedTime: 120.6 seconds RetCode: 0 Status: OK PackageFile: DropletUtils_1.27.2.tar.gz PackageFileSize: 392.8 KiB