Package: DropletUtils Version: 1.27.2 Command: rm -rf DropletUtils.buildbin-libdir && mkdir DropletUtils.buildbin-libdir && E:\biocbuild\bbs-3.21-bioc\R\bin\R.exe CMD INSTALL --build --library=DropletUtils.buildbin-libdir DropletUtils_1.27.2.tar.gz StartedAt: 2025-02-20 07:42:29 -0500 (Thu, 20 Feb 2025) EndedAt: 2025-02-20 07:44:41 -0500 (Thu, 20 Feb 2025) EllapsedTime: 132.7 seconds RetCode: 0 Status: OK PackageFile: DropletUtils_1.27.2.zip PackageFileSize: 2.11 MiB