Package: DropletUtils Version: 1.27.2 Command: /home/biocbuild/bbs-3.21-bioc/R/bin/R CMD check --install=check:DropletUtils.install-out.txt --library=/home/biocbuild/bbs-3.21-bioc/R/site-library --timings DropletUtils_1.27.2.tar.gz StartedAt: 2025-02-19 21:50:20 -0500 (Wed, 19 Feb 2025) EndedAt: 2025-02-19 21:56:48 -0500 (Wed, 19 Feb 2025) EllapsedTime: 387.5 seconds RetCode: 0 Status: WARNINGS CheckDir: DropletUtils.Rcheck Warnings: 1