Package: DropletUtils Version: 1.27.2 Command: /Library/Frameworks/R.framework/Resources/bin/R CMD INSTALL DropletUtils StartedAt: 2025-02-19 15:22:42 -0500 (Wed, 19 Feb 2025) EndedAt: 2025-02-19 15:24:01 -0500 (Wed, 19 Feb 2025) EllapsedTime: 79.3 seconds RetCode: 0 Status: OK