Package: DriverNet Version: 1.47.0 Command: E:\biocbuild\bbs-3.21-bioc\R\bin\R.exe CMD check --no-multiarch --install=check:DriverNet.install-out.txt --library=E:\biocbuild\bbs-3.21-bioc\R\library --no-vignettes --timings DriverNet_1.47.0.tar.gz StartedAt: 2025-02-21 00:52:59 -0500 (Fri, 21 Feb 2025) EndedAt: 2025-02-21 00:54:43 -0500 (Fri, 21 Feb 2025) EllapsedTime: 104.7 seconds RetCode: 0 Status: OK CheckDir: DriverNet.Rcheck Warnings: 0