Package: DriverNet Version: 1.47.0 Command: rm -rf DriverNet.buildbin-libdir && mkdir DriverNet.buildbin-libdir && E:\biocbuild\bbs-3.21-bioc\R\bin\R.exe CMD INSTALL --build --library=DriverNet.buildbin-libdir DriverNet_1.47.0.tar.gz StartedAt: 2025-02-21 08:00:21 -0500 (Fri, 21 Feb 2025) EndedAt: 2025-02-21 08:00:35 -0500 (Fri, 21 Feb 2025) EllapsedTime: 14.0 seconds RetCode: 0 Status: OK PackageFile: DriverNet_1.47.0.zip PackageFileSize: 1.176 MiB