Package: DriverNet Version: 1.47.0 Command: /Library/Frameworks/R.framework/Resources/bin/R CMD INSTALL DriverNet StartedAt: 2025-02-20 15:03:07 -0500 (Thu, 20 Feb 2025) EndedAt: 2025-02-20 15:03:28 -0500 (Thu, 20 Feb 2025) EllapsedTime: 20.8 seconds RetCode: 0 Status: OK