Package: DriverNet Version: 1.47.0 Command: /Library/Frameworks/R.framework/Resources/bin/R CMD build --keep-empty-dirs --no-resave-data DriverNet StartedAt: 2025-02-20 16:12:16 -0500 (Thu, 20 Feb 2025) EndedAt: 2025-02-20 16:12:30 -0500 (Thu, 20 Feb 2025) EllapsedTime: 14.1 seconds RetCode: 0 Status: OK PackageFile: DriverNet_1.47.0.tar.gz PackageFileSize: 1.116 MiB