Package: DriverNet Version: 1.47.0 Command: rm -rf DriverNet.buildbin-libdir && mkdir DriverNet.buildbin-libdir && /Users/biocbuild/BBS/utils/build-universal.sh DriverNet_1.47.0.tar.gz /Library/Frameworks/R.framework/Resources/bin/R DriverNet.buildbin-libdir StartedAt: 2025-02-20 22:17:27 -0500 (Thu, 20 Feb 2025) EndedAt: 2025-02-20 22:17:29 -0500 (Thu, 20 Feb 2025) EllapsedTime: 2.0 seconds RetCode: 0 Status: OK PackageFile: DriverNet_1.47.0.tgz PackageFileSize: 1.172 MiB