Package: Doscheda Version: 1.29.0 Command: E:\biocbuild\bbs-3.21-bioc\R\bin\R.exe CMD INSTALL Doscheda StartedAt: 2025-02-19 16:44:40 -0500 (Wed, 19 Feb 2025) EndedAt: 2025-02-19 16:45:10 -0500 (Wed, 19 Feb 2025) EllapsedTime: 30.2 seconds RetCode: 0 Status: OK