Package: Doscheda Version: 1.29.0 Command: /Library/Frameworks/R.framework/Resources/bin/R CMD INSTALL Doscheda StartedAt: 2025-02-19 15:36:53 -0500 (Wed, 19 Feb 2025) EndedAt: 2025-02-19 15:37:13 -0500 (Wed, 19 Feb 2025) EllapsedTime: 19.7 seconds RetCode: 0 Status: OK