Package: DominoEffect Version: 1.27.0 Command: E:\biocbuild\bbs-3.21-bioc\R\bin\R.exe CMD INSTALL DominoEffect StartedAt: 2025-02-17 16:36:04 -0500 (Mon, 17 Feb 2025) EndedAt: 2025-02-17 16:36:52 -0500 (Mon, 17 Feb 2025) EllapsedTime: 48.0 seconds RetCode: 0 Status: OK