Package: DominoEffect Version: 1.27.0 Command: chmod a+r DominoEffect -R && E:\biocbuild\bbs-3.21-bioc\R\bin\R.exe CMD build --keep-empty-dirs --no-resave-data DominoEffect StartedAt: 2025-02-17 18:20:23 -0500 (Mon, 17 Feb 2025) EndedAt: 2025-02-17 18:21:43 -0500 (Mon, 17 Feb 2025) EllapsedTime: 79.2 seconds RetCode: 0 Status: OK PackageFile: DominoEffect_1.27.0.tar.gz PackageFileSize: 473.8 KiB