Package: DominoEffect Version: 1.27.0 Command: rm -rf DominoEffect.buildbin-libdir && mkdir DominoEffect.buildbin-libdir && E:\biocbuild\bbs-3.21-bioc\R\bin\R.exe CMD INSTALL --build --library=DominoEffect.buildbin-libdir DominoEffect_1.27.0.tar.gz StartedAt: 2025-02-18 07:15:19 -0500 (Tue, 18 Feb 2025) EndedAt: 2025-02-18 07:16:13 -0500 (Tue, 18 Feb 2025) EllapsedTime: 54.2 seconds RetCode: 0 Status: OK PackageFile: DominoEffect_1.27.0.zip PackageFileSize: 553.3 KiB