Package: DominoEffect Version: 1.27.0 Command: /Library/Frameworks/R.framework/Resources/bin/R CMD build --keep-empty-dirs --no-resave-data DominoEffect StartedAt: 2025-02-17 16:32:14 -0500 (Mon, 17 Feb 2025) EndedAt: 2025-02-17 16:33:35 -0500 (Mon, 17 Feb 2025) EllapsedTime: 81.0 seconds RetCode: 0 Status: OK PackageFile: DominoEffect_1.27.0.tar.gz PackageFileSize: 473.3 KiB