Package: DominoEffect Version: 1.27.0 Command: /home/biocbuild/R/R/bin/R CMD INSTALL DominoEffect StartedAt: 2025-01-29 20:02:06 -0000 (Wed, 29 Jan 2025) EndedAt: 2025-01-29 20:03:03 -0000 (Wed, 29 Jan 2025) EllapsedTime: 57.1 seconds RetCode: 0 Status: OK