Package: DominoEffect Version: 1.27.0 Command: /home/biocbuild/R/R/bin/R CMD check --install=check:DominoEffect.install-out.txt --library=/home/biocbuild/R/R/site-library --no-vignettes --timings DominoEffect_1.27.0.tar.gz StartedAt: 2025-01-28 10:05:47 -0000 (Tue, 28 Jan 2025) EndedAt: 2025-01-28 10:14:49 -0000 (Tue, 28 Jan 2025) EllapsedTime: 541.6 seconds RetCode: 0 Status: WARNINGS CheckDir: DominoEffect.Rcheck Warnings: 5