Package: DominoEffect Version: 1.27.0 Command: /Library/Frameworks/R.framework/Resources/bin/R CMD check --install=check:DominoEffect.install-out.txt --library=/Library/Frameworks/R.framework/Resources/library --no-vignettes --timings DominoEffect_1.27.0.tar.gz StartedAt: 2025-02-19 19:04:46 -0500 (Wed, 19 Feb 2025) EndedAt: 2025-02-19 19:07:52 -0500 (Wed, 19 Feb 2025) EllapsedTime: 185.2 seconds RetCode: 0 Status: OK CheckDir: DominoEffect.Rcheck Warnings: 0