Package: DiscoRhythm Version: 1.23.0 Command: /home/biocbuild/bbs-3.21-bioc/R/bin/R CMD build --keep-empty-dirs --no-resave-data DiscoRhythm StartedAt: 2025-02-19 17:01:56 -0500 (Wed, 19 Feb 2025) EndedAt: 2025-02-19 17:02:41 -0500 (Wed, 19 Feb 2025) EllapsedTime: 45.0 seconds RetCode: 0 Status: OK PackageFile: DiscoRhythm_1.23.0.tar.gz PackageFileSize: 2.522 MiB