Package: DiscoRhythm Version: 1.23.0 Command: /Library/Frameworks/R.framework/Resources/bin/R CMD INSTALL DiscoRhythm StartedAt: 2025-02-20 15:44:18 -0500 (Thu, 20 Feb 2025) EndedAt: 2025-02-20 15:44:52 -0500 (Thu, 20 Feb 2025) EllapsedTime: 33.7 seconds RetCode: 0 Status: OK