Package: DiscoRhythm Version: 1.23.0 Command: /Library/Frameworks/R.framework/Resources/bin/R CMD check --install=check:DiscoRhythm.install-out.txt --library=/Library/Frameworks/R.framework/Resources/library --no-vignettes --timings DiscoRhythm_1.23.0.tar.gz StartedAt: 2025-02-20 20:05:48 -0500 (Thu, 20 Feb 2025) EndedAt: 2025-02-20 20:09:40 -0500 (Thu, 20 Feb 2025) EllapsedTime: 232.0 seconds RetCode: 0 Status: OK CheckDir: DiscoRhythm.Rcheck Warnings: 0