Package: DiscoRhythm Version: 1.23.0 Command: /Library/Frameworks/R.framework/Resources/bin/R CMD build --keep-empty-dirs --no-resave-data DiscoRhythm StartedAt: 2025-02-20 16:31:50 -0500 (Thu, 20 Feb 2025) EndedAt: 2025-02-20 16:32:44 -0500 (Thu, 20 Feb 2025) EllapsedTime: 53.8 seconds RetCode: 0 Status: OK PackageFile: DiscoRhythm_1.23.0.tar.gz PackageFileSize: 2.522 MiB