Package: DiscoRhythm Version: 1.23.0 Command: /home/biocbuild/R/R/bin/R CMD build --keep-empty-dirs --no-resave-data DiscoRhythm StartedAt: 2025-01-28 22:30:24 -0000 (Tue, 28 Jan 2025) EndedAt: 2025-01-28 22:31:18 -0000 (Tue, 28 Jan 2025) EllapsedTime: 54.0 seconds RetCode: 0 Status: OK PackageFile: DiscoRhythm_1.23.0.tar.gz PackageFileSize: 2.614 MiB