Package: DiscoRhythm Version: 1.23.0 Command: /Library/Frameworks/R.framework/Resources/bin/R CMD INSTALL DiscoRhythm StartedAt: 2025-02-19 15:29:51 -0500 (Wed, 19 Feb 2025) EndedAt: 2025-02-19 15:30:01 -0500 (Wed, 19 Feb 2025) EllapsedTime: 10.2 seconds RetCode: 0 Status: OK