Package: DiscoRhythm Version: 1.23.0 Command: /Library/Frameworks/R.framework/Resources/bin/R CMD build --keep-empty-dirs --no-resave-data DiscoRhythm StartedAt: 2025-02-19 16:10:41 -0500 (Wed, 19 Feb 2025) EndedAt: 2025-02-19 16:11:00 -0500 (Wed, 19 Feb 2025) EllapsedTime: 19.2 seconds RetCode: 0 Status: OK PackageFile: DiscoRhythm_1.23.0.tar.gz PackageFileSize: 2.522 MiB