Package: DiscoRhythm Version: 1.23.0 Command: rm -rf DiscoRhythm.buildbin-libdir && mkdir DiscoRhythm.buildbin-libdir && /Users/biocbuild/BBS/utils/build-universal.sh DiscoRhythm_1.23.0.tar.gz /Library/Frameworks/R.framework/Resources/bin/R DiscoRhythm.buildbin-libdir StartedAt: 2025-02-19 22:20:09 -0500 (Wed, 19 Feb 2025) EndedAt: 2025-02-19 22:20:21 -0500 (Wed, 19 Feb 2025) EllapsedTime: 12.2 seconds RetCode: 0 Status: OK PackageFile: DiscoRhythm_1.23.0.tgz PackageFileSize: 1.914 MiB