Package: DirichletMultinomial Version: 1.49.0 Command: E:\biocbuild\bbs-3.21-bioc\R\bin\R.exe CMD INSTALL DirichletMultinomial StartedAt: 2025-02-20 15:30:09 -0500 (Thu, 20 Feb 2025) EndedAt: 2025-02-20 15:31:19 -0500 (Thu, 20 Feb 2025) EllapsedTime: 70.7 seconds RetCode: 0 Status: OK